BEGIN:VCALENDAR
VERSION:2.0
PRODID:-//Lake-Sumter State College - ECPv6.15.20//NONSGML v1.0//EN
CALSCALE:GREGORIAN
METHOD:PUBLISH
X-ORIGINAL-URL:https://www.lssc.edu
X-WR-CALDESC:Events for Lake-Sumter State College
REFRESH-INTERVAL;VALUE=DURATION:PT1H
X-Robots-Tag:noindex
X-PUBLISHED-TTL:PT1H
BEGIN:VTIMEZONE
TZID:America/New_York
BEGIN:DAYLIGHT
TZOFFSETFROM:-0500
TZOFFSETTO:-0400
TZNAME:EDT
DTSTART:20180311T070000
END:DAYLIGHT
BEGIN:STANDARD
TZOFFSETFROM:-0400
TZOFFSETTO:-0500
TZNAME:EST
DTSTART:20181104T060000
END:STANDARD
BEGIN:DAYLIGHT
TZOFFSETFROM:-0500
TZOFFSETTO:-0400
TZNAME:EDT
DTSTART:20190310T070000
END:DAYLIGHT
BEGIN:STANDARD
TZOFFSETFROM:-0400
TZOFFSETTO:-0500
TZNAME:EST
DTSTART:20191103T060000
END:STANDARD
BEGIN:DAYLIGHT
TZOFFSETFROM:-0500
TZOFFSETTO:-0400
TZNAME:EDT
DTSTART:20200308T070000
END:DAYLIGHT
BEGIN:STANDARD
TZOFFSETFROM:-0400
TZOFFSETTO:-0500
TZNAME:EST
DTSTART:20201101T060000
END:STANDARD
BEGIN:DAYLIGHT
TZOFFSETFROM:-0500
TZOFFSETTO:-0400
TZNAME:EDT
DTSTART:20210314T070000
END:DAYLIGHT
BEGIN:STANDARD
TZOFFSETFROM:-0400
TZOFFSETTO:-0500
TZNAME:EST
DTSTART:20211107T060000
END:STANDARD
END:VTIMEZONE
BEGIN:VEVENT
DTSTART;TZID=America/New_York:20201021T133000
DTEND;TZID=America/New_York:20201021T145500
DTSTAMP:20260419T114957
CREATED:20201013T115518Z
LAST-MODIFIED:20201013T120643Z
UID:10000836-1603287000-1603292100@www.lssc.edu
SUMMARY:Collective Bargaining Negotiations
DESCRIPTION:
URL:https://www.lssc.edu/calendar/collective-bargaining-negotiations-5/
LOCATION:South Lake | Building 2\, 1250 N. Hancock Rd\, Clermont\, FL\, 34711\, United States
CATEGORIES:Public Meetings
SUMMARY:10/21 1:30pm - Collective Bargaining Negotiations
LOCATION:South Lake | Building 2 - 327
END:VEVENT
BEGIN:VEVENT
DTSTART;TZID=America/New_York:20200423T130000
DTEND;TZID=America/New_York:20200423T160000
DTSTAMP:20260419T114957
CREATED:20200110T203018Z
LAST-MODIFIED:20200403T161506Z
UID:10000827-1587646800-1587657600@www.lssc.edu
SUMMARY:Canceled - Collective Bargaining Negotiations
DESCRIPTION:
URL:https://www.lssc.edu/calendar/collective-bargaining-negotiations-4/
LOCATION:South Lake | Building 2\, 1250 N. Hancock Rd\, Clermont\, FL\, 34711\, United States
CATEGORIES:Public Meetings
SUMMARY:04/23 1:00pm - Canceled - Collective Bargaining Negotiations
LOCATION:South Lake | Building 2 - 327
END:VEVENT
BEGIN:VEVENT
DTSTART;TZID=America/New_York:20200403T120000
DTEND;TZID=America/New_York:20200403T160000
DTSTAMP:20260419T114957
CREATED:20200110T195936Z
LAST-MODIFIED:20200403T161501Z
UID:10000826-1585915200-1585929600@www.lssc.edu
SUMMARY:Canceled - Collective Bargaining Negotiations
DESCRIPTION:
URL:https://www.lssc.edu/calendar/collective-bargaining-negotiations-3/
LOCATION:Student Services Building\, 9501 U.S. Highway 441\, Leesburg\, FL\, 34788\, United States
CATEGORIES:Public Meetings
SUMMARY:04/03 12:00pm - Canceled - Collective Bargaining Negotiations
LOCATION:Student Services Building - 210
END:VEVENT
BEGIN:VEVENT
DTSTART;TZID=America/New_York:20200228T100000
DTEND;TZID=America/New_York:20200228T160000
DTSTAMP:20260419T114957
CREATED:20200110T195441Z
LAST-MODIFIED:20200110T195441Z
UID:10000825-1582884000-1582905600@www.lssc.edu
SUMMARY:Collective Bargaining Negotiations
DESCRIPTION:
URL:https://www.lssc.edu/calendar/collective-bargaining-negotiations-2/
LOCATION:South Lake | Building 2\, 1250 N. Hancock Rd\, Clermont\, FL\, 34711\, United States
CATEGORIES:Public Meetings
SUMMARY:02/28 10:00am - Collective Bargaining Negotiations
LOCATION:South Lake | Building 2 - 327
END:VEVENT
BEGIN:VEVENT
DTSTART;TZID=America/New_York:20200131T100000
DTEND;TZID=America/New_York:20200131T160000
DTSTAMP:20260419T114957
CREATED:20200110T195034Z
LAST-MODIFIED:20200110T195034Z
UID:10000824-1580464800-1580486400@www.lssc.edu
SUMMARY:Collective Bargaining Negotiations
DESCRIPTION:
URL:https://www.lssc.edu/calendar/collective-bargaining-negotiations/
LOCATION:Student Services Building\, 9501 U.S. Highway 441\, Leesburg\, FL\, 34788\, United States
CATEGORIES:Public Meetings
SUMMARY:01/31 10:00am - Collective Bargaining Negotiations
LOCATION:Student Services Building - 210
END:VEVENT
BEGIN:VEVENT
DTSTART;TZID=America/New_York:20190725T100000
DTEND;TZID=America/New_York:20190725T150000
DTSTAMP:20260419T114957
CREATED:20190617T153645Z
LAST-MODIFIED:20190617T153645Z
UID:10000878-1564048800-1564066800@www.lssc.edu
SUMMARY:Collective Bargaining Negotiations with United Faculty of Florida
DESCRIPTION:
URL:https://www.lssc.edu/calendar/collective-bargaining-negotiations-with-united-faculty-of-florida-3/
LOCATION:Student Services Building\, 9501 U.S. Highway 441\, Leesburg\, FL\, 34788\, United States
CATEGORIES:Public Meetings
SUMMARY:07/25 10:00am - Collective Bargaining Negotiations with United Faculty of Florida
LOCATION:Student Services Building
END:VEVENT
BEGIN:VEVENT
DTSTART;TZID=America/New_York:20190603T150000
DTEND;TZID=America/New_York:20190603T170000
DTSTAMP:20260419T114957
CREATED:20190617T153250Z
LAST-MODIFIED:20190617T153436Z
UID:10000877-1559574000-1559581200@www.lssc.edu
SUMMARY:Collective Bargaining Negotiations with United Faculty of Florida
DESCRIPTION:
URL:https://www.lssc.edu/calendar/collective-bargaining-negotiations-with-united-faculty-of-florida-2/
LOCATION:Student Services Building\, 9501 U.S. Highway 441\, Leesburg\, FL\, 34788\, United States
CATEGORIES:Public Meetings
SUMMARY:06/03 3:00pm - Collective Bargaining Negotiations with United Faculty of Florida
LOCATION:Student Services Building
END:VEVENT
END:VCALENDAR