BEGIN:VCALENDAR
VERSION:2.0
PRODID:-//Lake-Sumter State College - ECPv6.15.20//NONSGML v1.0//EN
CALSCALE:GREGORIAN
METHOD:PUBLISH
X-WR-CALNAME:Lake-Sumter State College
X-ORIGINAL-URL:https://www.lssc.edu
X-WR-CALDESC:Events for Lake-Sumter State College
REFRESH-INTERVAL;VALUE=DURATION:PT1H
X-Robots-Tag:noindex
X-PUBLISHED-TTL:PT1H
BEGIN:VTIMEZONE
TZID:America/New_York
BEGIN:DAYLIGHT
TZOFFSETFROM:-0500
TZOFFSETTO:-0400
TZNAME:EDT
DTSTART:20250309T070000
END:DAYLIGHT
BEGIN:STANDARD
TZOFFSETFROM:-0400
TZOFFSETTO:-0500
TZNAME:EST
DTSTART:20251102T060000
END:STANDARD
BEGIN:DAYLIGHT
TZOFFSETFROM:-0500
TZOFFSETTO:-0400
TZNAME:EDT
DTSTART:20260308T070000
END:DAYLIGHT
BEGIN:STANDARD
TZOFFSETFROM:-0400
TZOFFSETTO:-0500
TZNAME:EST
DTSTART:20261101T060000
END:STANDARD
BEGIN:DAYLIGHT
TZOFFSETFROM:-0500
TZOFFSETTO:-0400
TZNAME:EDT
DTSTART:20270314T070000
END:DAYLIGHT
BEGIN:STANDARD
TZOFFSETFROM:-0400
TZOFFSETTO:-0500
TZNAME:EST
DTSTART:20271107T060000
END:STANDARD
END:VTIMEZONE
BEGIN:VEVENT
DTSTART;TZID=America/New_York:20260409T100000
DTEND;TZID=America/New_York:20260409T120000
DTSTAMP:20260422T101325
CREATED:20260226T193103Z
LAST-MODIFIED:20260408T215935Z
UID:10183595-1775728800-1775736000@www.lssc.edu
SUMMARY:Student Wellness Table - Distracted Driving Awareness Month
DESCRIPTION:
URL:https://www.lssc.edu/calendar/student-wellness-table-distracted-driving-awareness-month-2/
LOCATION:Leesburg | Science-Math Building Lobby
CATEGORIES:Student Life
SUMMARY:04/09 10:00am - Student Wellness Table - Distracted Driving Awareness Month
LOCATION:Leesburg | Science-Math Building Lobby
END:VEVENT
BEGIN:VEVENT
DTSTART;TZID=America/New_York:20260323T090000
DTEND;TZID=America/New_York:20260323T110000
DTSTAMP:20260422T101325
CREATED:20260211T013022Z
LAST-MODIFIED:20260322T202938Z
UID:10179938-1774256400-1774263600@www.lssc.edu
SUMMARY:Job Search Strategies Info Table
DESCRIPTION:
URL:https://www.lssc.edu/calendar/job-search-strategies-info-table/
LOCATION:Leesburg | Science-Math Building Lobby
CATEGORIES:Student Life
SUMMARY:03/23 9:00am - Job Search Strategies Info Table
LOCATION:Leesburg | Science-Math Building Lobby
END:VEVENT
BEGIN:VEVENT
DTSTART;TZID=America/New_York:20260305T100000
DTEND;TZID=America/New_York:20260305T120000
DTSTAMP:20260422T101325
CREATED:20260211T013012Z
LAST-MODIFIED:20260304T194435Z
UID:10179923-1772704800-1772712000@www.lssc.edu
SUMMARY:Student Wellness Table - Safe Spring Break
DESCRIPTION:
URL:https://www.lssc.edu/calendar/student-wellness-table-safe-spring-break-2/
LOCATION:Leesburg | Science-Math Building Lobby
CATEGORIES:Student Life
SUMMARY:03/05 10:00am - Student Wellness Table - Safe Spring Break
LOCATION:Leesburg | Science-Math Building Lobby
END:VEVENT
BEGIN:VEVENT
DTSTART;TZID=America/New_York:20260226T100000
DTEND;TZID=America/New_York:20260226T120000
DTSTAMP:20260422T101325
CREATED:20260211T012959Z
LAST-MODIFIED:20260225T191504Z
UID:10179914-1772100000-1772107200@www.lssc.edu
SUMMARY:Student Wellness Table - Positive Body Image
DESCRIPTION:
URL:https://www.lssc.edu/calendar/student-wellness-table-positive-body-image-2/
LOCATION:Leesburg | Science-Math Building Lobby
CATEGORIES:Student Life
SUMMARY:02/26 10:00am - Student Wellness Table - Positive Body Image
LOCATION:Leesburg | Science-Math Building Lobby
END:VEVENT
BEGIN:VEVENT
DTSTART;TZID=America/New_York:20260225T090000
DTEND;TZID=America/New_York:20260225T110000
DTSTAMP:20260422T101325
CREATED:20260211T012957Z
LAST-MODIFIED:20260224T191509Z
UID:10179912-1772010000-1772017200@www.lssc.edu
SUMMARY:Critical Thinking Info Table
DESCRIPTION:
URL:https://www.lssc.edu/calendar/critical-thinking-info-table/
LOCATION:Leesburg | Science-Math Building Lobby
CATEGORIES:Student Life
SUMMARY:02/25 9:00am - Critical Thinking Info Table
LOCATION:Leesburg | Science-Math Building Lobby
END:VEVENT
BEGIN:VEVENT
DTSTART;TZID=America/New_York:20260217T100000
DTEND;TZID=America/New_York:20260217T120000
DTSTAMP:20260422T101325
CREATED:20260211T012949Z
LAST-MODIFIED:20260217T012938Z
UID:10179899-1771322400-1771329600@www.lssc.edu
SUMMARY:Student Wellness Table - Acts of Kindness Week
DESCRIPTION:
URL:https://www.lssc.edu/calendar/student-wellness-table-acts-of-kindness-week/
LOCATION:Leesburg | Science-Math Building Lobby
CATEGORIES:Student Life
SUMMARY:02/17 10:00am - Student Wellness Table - Acts of Kindness Week
LOCATION:Leesburg | Science-Math Building Lobby
END:VEVENT
END:VCALENDAR