BEGIN:VCALENDAR
VERSION:2.0
PRODID:-//Lake-Sumter State College - ECPv6.15.20//NONSGML v1.0//EN
CALSCALE:GREGORIAN
METHOD:PUBLISH
X-WR-CALNAME:Lake-Sumter State College
X-ORIGINAL-URL:https://www.lssc.edu
X-WR-CALDESC:Events for Lake-Sumter State College
REFRESH-INTERVAL;VALUE=DURATION:PT1H
X-Robots-Tag:noindex
X-PUBLISHED-TTL:PT1H
BEGIN:VTIMEZONE
TZID:America/New_York
BEGIN:DAYLIGHT
TZOFFSETFROM:-0500
TZOFFSETTO:-0400
TZNAME:EDT
DTSTART:20250309T070000
END:DAYLIGHT
BEGIN:STANDARD
TZOFFSETFROM:-0400
TZOFFSETTO:-0500
TZNAME:EST
DTSTART:20251102T060000
END:STANDARD
BEGIN:DAYLIGHT
TZOFFSETFROM:-0500
TZOFFSETTO:-0400
TZNAME:EDT
DTSTART:20260308T070000
END:DAYLIGHT
BEGIN:STANDARD
TZOFFSETFROM:-0400
TZOFFSETTO:-0500
TZNAME:EST
DTSTART:20261101T060000
END:STANDARD
BEGIN:DAYLIGHT
TZOFFSETFROM:-0500
TZOFFSETTO:-0400
TZNAME:EDT
DTSTART:20270314T070000
END:DAYLIGHT
BEGIN:STANDARD
TZOFFSETFROM:-0400
TZOFFSETTO:-0500
TZNAME:EST
DTSTART:20271107T060000
END:STANDARD
END:VTIMEZONE
BEGIN:VEVENT
DTSTART;TZID=America/New_York:20260204T110000
DTEND;TZID=America/New_York:20260204T120000
DTSTAMP:20260422T071131
CREATED:20260203T180727Z
LAST-MODIFIED:20260203T180727Z
UID:10177986-1770202800-1770206400@www.lssc.edu
SUMMARY:Alpha & Omega (SL)
DESCRIPTION:
URL:https://www.lssc.edu/calendar/alpha-omega-sl/
LOCATION:South Lake | Building 2 – Room 103
CATEGORIES:Student Club Meetings
SUMMARY:02/04 11:00am - Alpha &amp; Omega (SL)
LOCATION:South Lake | Building 2 – Room 103
END:VEVENT
END:VCALENDAR