BEGIN:VCALENDAR
VERSION:2.0
PRODID:-//Lake-Sumter State College - ECPv6.15.20//NONSGML v1.0//EN
CALSCALE:GREGORIAN
METHOD:PUBLISH
X-WR-CALNAME:Lake-Sumter State College
X-ORIGINAL-URL:https://www.lssc.edu
X-WR-CALDESC:Events for Lake-Sumter State College
REFRESH-INTERVAL;VALUE=DURATION:PT1H
X-Robots-Tag:noindex
X-PUBLISHED-TTL:PT1H
BEGIN:VTIMEZONE
TZID:America/New_York
BEGIN:DAYLIGHT
TZOFFSETFROM:-0500
TZOFFSETTO:-0400
TZNAME:EDT
DTSTART:20230312T070000
END:DAYLIGHT
BEGIN:STANDARD
TZOFFSETFROM:-0400
TZOFFSETTO:-0500
TZNAME:EST
DTSTART:20231105T060000
END:STANDARD
BEGIN:DAYLIGHT
TZOFFSETFROM:-0500
TZOFFSETTO:-0400
TZNAME:EDT
DTSTART:20240310T070000
END:DAYLIGHT
BEGIN:STANDARD
TZOFFSETFROM:-0400
TZOFFSETTO:-0500
TZNAME:EST
DTSTART:20241103T060000
END:STANDARD
BEGIN:DAYLIGHT
TZOFFSETFROM:-0500
TZOFFSETTO:-0400
TZNAME:EDT
DTSTART:20250309T070000
END:DAYLIGHT
BEGIN:STANDARD
TZOFFSETFROM:-0400
TZOFFSETTO:-0500
TZNAME:EST
DTSTART:20251102T060000
END:STANDARD
BEGIN:DAYLIGHT
TZOFFSETFROM:-0500
TZOFFSETTO:-0400
TZNAME:EDT
DTSTART:20260308T070000
END:DAYLIGHT
BEGIN:STANDARD
TZOFFSETFROM:-0400
TZOFFSETTO:-0500
TZNAME:EST
DTSTART:20261101T060000
END:STANDARD
BEGIN:DAYLIGHT
TZOFFSETFROM:-0500
TZOFFSETTO:-0400
TZNAME:EDT
DTSTART:20270314T070000
END:DAYLIGHT
BEGIN:STANDARD
TZOFFSETFROM:-0400
TZOFFSETTO:-0500
TZNAME:EST
DTSTART:20271107T060000
END:STANDARD
END:VTIMEZONE
BEGIN:VEVENT
DTSTART;TZID=America/New_York:20260121T110000
DTEND;TZID=America/New_York:20260121T160000
DTSTAMP:20260419T101636
CREATED:20260114T145938Z
LAST-MODIFIED:20260121T174510Z
UID:10173405-1768993200-1769011200@www.lssc.edu
SUMMARY:Blood drive
DESCRIPTION:Blood drive for Students and staffView the full event details here: https://events.dudesolutions.com/lssc/site/communitysite/event/blood-drive-53/
URL:https://www.lssc.edu/calendar/blood-drive-24/
LOCATION:South Lake | Building 2 – Room 205
CATEGORIES:Brightly
SUMMARY:01/21 4:00pm - Blood drive
LOCATION:South Lake | Building 2 – Room 205
END:VEVENT
BEGIN:VEVENT
DTSTART;TZID=America/New_York:20251119T110000
DTEND;TZID=America/New_York:20251119T160000
DTSTAMP:20260419T101636
CREATED:20251030T174053Z
LAST-MODIFIED:20251119T205600Z
UID:10156256-1763550000-1763568000@www.lssc.edu
SUMMARY:Blood Drive
DESCRIPTION:Blood driveView the full event details here: https://events.dudesolutions.com/lssc/site/communitysite/event/blood-drive-48/
URL:https://www.lssc.edu/calendar/blood-drive-23/
LOCATION:South Lake | Building 2 – Room 205
CATEGORIES:Brightly
SUMMARY:11/19 4:00pm - Blood Drive
LOCATION:South Lake | Building 2 – Room 205
END:VEVENT
BEGIN:VEVENT
DTSTART;TZID=America/New_York:20250924T110000
DTEND;TZID=America/New_York:20250924T160000
DTSTAMP:20260419T101636
CREATED:20250910T001046Z
LAST-MODIFIED:20250924T164033Z
UID:10144780-1758711600-1758729600@www.lssc.edu
SUMMARY:Blood Dirve
DESCRIPTION:Blood DriveView the full event details here: https://events.dudesolutions.com/lssc/site/communitysite/event/blood-dirve/
URL:https://www.lssc.edu/calendar/blood-dirve/
LOCATION:South Lake | Building 2 – Room 205
CATEGORIES:Brightly
SUMMARY:09/24 3:00pm - Blood Dirve
LOCATION:South Lake | Building 2 – Room 205
END:VEVENT
BEGIN:VEVENT
DTSTART;TZID=America/New_York:20250730T110000
DTEND;TZID=America/New_York:20250730T163000
DTSTAMP:20260419T101636
CREATED:20250710T000632Z
LAST-MODIFIED:20250730T170830Z
UID:10127886-1753873200-1753893000@www.lssc.edu
SUMMARY:Blood drive
DESCRIPTION:On Campus Blood driveView the full event details here: https://events.dudesolutions.com/lssc/site/communitysite/event/blood-drive-41/
URL:https://www.lssc.edu/calendar/blood-drive-21/
LOCATION:South Lake | Building 2 – Room 205
CATEGORIES:Brightly
SUMMARY:07/30 3:00pm - Blood drive
LOCATION:South Lake | Building 2 – Room 205
END:VEVENT
BEGIN:VEVENT
DTSTART;TZID=America/New_York:20250320T090000
DTEND;TZID=America/New_York:20250320T170000
DTSTAMP:20260419T101636
CREATED:20250129T000925Z
LAST-MODIFIED:20250320T164708Z
UID:10037075-1742461200-1742490000@www.lssc.edu
SUMMARY:Clermont Campus Blood Drive
DESCRIPTION:We will bring the Bloodmobile out to collect life saving donations.View the full event details here: https://events.dudesolutions.com/lssc/site/communitysite/event/clermont-campus-blood-drive/
URL:https://www.lssc.edu/calendar/clermont-campus-blood-drive/
LOCATION:South Lake | Building 2 – Room 205
CATEGORIES:Brightly
SUMMARY:03/20 1:00pm - Clermont Campus Blood Drive
LOCATION:South Lake | Building 2 – Room 205
END:VEVENT
BEGIN:VEVENT
DTSTART;TZID=America/New_York:20250319T110000
DTEND;TZID=America/New_York:20250319T170000
DTSTAMP:20260419T101636
CREATED:20250222T000059Z
LAST-MODIFIED:20250319T133215Z
UID:10044621-1742382000-1742403600@www.lssc.edu
SUMMARY:Blood drive
DESCRIPTION:LSSC south lake campus Blood driveView the full event details here: https://events.dudesolutions.com/lssc/site/communitysite/event/blood-drive-29/
URL:https://www.lssc.edu/calendar/blood-drive-14/
LOCATION:South Lake | Building 2 – Room 205
CATEGORIES:Brightly
SUMMARY:03/19 3:00pm - Blood drive
LOCATION:South Lake | Building 2 – Room 205
END:VEVENT
BEGIN:VEVENT
DTSTART;TZID=America/New_York:20250115T110000
DTEND;TZID=America/New_York:20250115T170000
DTSTAMP:20260419T101636
CREATED:20250107T155258Z
LAST-MODIFIED:20250115T110731Z
UID:10031723-1736938800-1736960400@www.lssc.edu
SUMMARY:Blood Drive
DESCRIPTION:LSSC south lake campus blood driveView the full event details here: https://events.dudesolutions.com/lssc/site/communitysite/event/blood-drive-23/
URL:https://www.lssc.edu/calendar/blood-drive-12/
LOCATION:South Lake | Building 2 – Room 205
CATEGORIES:Brightly
SUMMARY:01/15 4:00pm - Blood Drive
LOCATION:South Lake | Building 2 – Room 205
END:VEVENT
BEGIN:VEVENT
DTSTART;TZID=America/New_York:20240925T110000
DTEND;TZID=America/New_York:20240925T170000
DTSTAMP:20260419T101636
CREATED:20240916T164535Z
LAST-MODIFIED:20240925T205234Z
UID:10005091-1727262000-1727283600@www.lssc.edu
SUMMARY:Blood drive
DESCRIPTION:Blood DriveView the full event details here: https://events.dudesolutions.com/lssc/site/communitysite/event/blood-drive-12/
URL:https://www.lssc.edu/calendar/blood-drive-6/
LOCATION:South Lake | Building 2 – Room 205
CATEGORIES:Brightly
SUMMARY:09/25 3:00pm - Blood drive
LOCATION:South Lake | Building 2 – Room 205
END:VEVENT
BEGIN:VEVENT
DTSTART;TZID=America/New_York:20240820T113000
DTEND;TZID=America/New_York:20240820T133000
DTSTAMP:20260419T101636
CREATED:20240802T164324Z
LAST-MODIFIED:20240820T170548Z
UID:10004716-1724153400-1724160600@www.lssc.edu
SUMMARY:Food Truck - South Lake
DESCRIPTION:Food Truck – South LakeView the full event details here: https://events.dudesolutions.com/lssc/site/students/event/food-truck—south-lake/
URL:https://www.lssc.edu/calendar/food-truck-south-lake/
LOCATION:South Lake | Building 2 – Room 205
CATEGORIES:Brightly,Enrollment and Student Affairs
SUMMARY:08/20 3:30pm - Food Truck - South Lake
LOCATION:South Lake | Building 2 – Room 205
END:VEVENT
BEGIN:VEVENT
DTSTART;TZID=America/New_York:20240529T110000
DTEND;TZID=America/New_York:20240529T160000
DTSTAMP:20260419T101636
CREATED:20240401T210310Z
LAST-MODIFIED:20240529T193805Z
UID:10004143-1716980400-1716998400@www.lssc.edu
SUMMARY:Blood drive
DESCRIPTION:blood drive View the full event details here: https://events.dudesolutions.com/lssc/site/communitysite/event/blood-drive-1/
URL:https://www.lssc.edu/calendar/blood-drive-2/
LOCATION:South Lake | Building 2 – Room 205
CATEGORIES:Brightly
SUMMARY:05/29 3:00pm - Blood drive
LOCATION:South Lake | Building 2 – Room 205
END:VEVENT
END:VCALENDAR