BEGIN:VCALENDAR
VERSION:2.0
PRODID:-//Lake-Sumter State College - ECPv6.15.20//NONSGML v1.0//EN
CALSCALE:GREGORIAN
METHOD:PUBLISH
X-WR-CALNAME:Lake-Sumter State College
X-ORIGINAL-URL:https://www.lssc.edu
X-WR-CALDESC:Events for Lake-Sumter State College
REFRESH-INTERVAL;VALUE=DURATION:PT1H
X-Robots-Tag:noindex
X-PUBLISHED-TTL:PT1H
BEGIN:VTIMEZONE
TZID:America/New_York
BEGIN:DAYLIGHT
TZOFFSETFROM:-0500
TZOFFSETTO:-0400
TZNAME:EDT
DTSTART:20250309T070000
END:DAYLIGHT
BEGIN:STANDARD
TZOFFSETFROM:-0400
TZOFFSETTO:-0500
TZNAME:EST
DTSTART:20251102T060000
END:STANDARD
BEGIN:DAYLIGHT
TZOFFSETFROM:-0500
TZOFFSETTO:-0400
TZNAME:EDT
DTSTART:20260308T070000
END:DAYLIGHT
BEGIN:STANDARD
TZOFFSETFROM:-0400
TZOFFSETTO:-0500
TZNAME:EST
DTSTART:20261101T060000
END:STANDARD
BEGIN:DAYLIGHT
TZOFFSETFROM:-0500
TZOFFSETTO:-0400
TZNAME:EDT
DTSTART:20270314T070000
END:DAYLIGHT
BEGIN:STANDARD
TZOFFSETFROM:-0400
TZOFFSETTO:-0500
TZNAME:EST
DTSTART:20271107T060000
END:STANDARD
END:VTIMEZONE
BEGIN:VEVENT
DTSTART;TZID=America/New_York:20260401T100000
DTEND;TZID=America/New_York:20260401T120000
DTSTAMP:20260419T112300
CREATED:20260226T193052Z
LAST-MODIFIED:20260331T203006Z
UID:10183588-1775037600-1775044800@www.lssc.edu
SUMMARY:Open Mic
DESCRIPTION:
URL:https://www.lssc.edu/calendar/open-mic-2/
LOCATION:South Lake | Sails Pavilion
CATEGORIES:Student Life
SUMMARY:04/01 10:00am - Open Mic
LOCATION:South Lake | Sails Pavilion
END:VEVENT
END:VCALENDAR